BEGIN:VCALENDAR
VERSION:2.0
PRODID:icalendar-ruby
CALSCALE:GREGORIAN
METHOD:PUBLISH
BEGIN:VEVENT
DTSTAMP:20260424T143149Z
UID:12-212395@mayloumc.org
DTSTART:20261011T200000Z
DTEND:20261011T210000Z
CLASS:PUBLIC
CREATED:20260401T091538
DESCRIPTION:
LAST-MODIFIED:20260401T091538
LOCATION:
SUMMARY:Book Study:  Start With Welcome
URL;VALUE=URI:https://www.mayloumc.org/events/book-study-start-with-welcome
 /2026-10-11
ATTACH;FILENAME=Start-With-Welcome.png;FMTTYPE=image/png:https://dq5pwpg1q8
 ru0.cloudfront.net/2026/02/26/21/17/41/ffd1e834-69ad-44c3-82d4-c8f0ae03df1
 0/Start-With-Welcome.png
END:VEVENT
END:VCALENDAR
